BEGIN:VCALENDAR
VERSION:2.0
PRODID:-//Auctions-Estates v1//EN
BEGIN:VEVENT
DTSTAMP:20260425T160138Z
STATUS:CONFIRMED
UID:c954d2f1cd210d83c0b0ce7caad46595@Auctions-Estates
DTSTART:20260509T150000Z
DTEND:20260509T160000Z
SUMMARY:Phil & Jane Covert Auction - LG Auction Company
DESCRIPTION:Household, Antiques & Misc Items, Shop & Misc
  https://www.auctions-estates.com/calendar/lg/70430/
LOCATION:201 E Iowa St Hiawatha, KS
TRANSP:OPAQUE
END:VEVENT
END:VCALENDAR