BEGIN:VCALENDAR
VERSION:2.0
PRODID:-//Auctions-Estates v1//EN
BEGIN:VEVENT
DTSTAMP:20260425T141646Z
STATUS:CONFIRMED
UID:12d22ed85c767b2025219b934cb916e6@Auctions-Estates
DTSTART:20260530T150000Z
DTEND:20260530T160000Z
SUMMARY:Real Estate & Personal Property Auction - J&D Auction & Sales, LLC
DESCRIPTION:5 Bed, 3 Bath, 3000 Sq Ft 2.5 Story Home; Vehicles, Guns,
  Coins, Wine Making, Household, Mower
  https://www.auctions-estates.com/calendar/jd/70431/
LOCATION:114 S Walnut St Neosho Rapids, KS
TRANSP:OPAQUE
END:VEVENT
END:VCALENDAR